BEGIN:VCALENDAR
VERSION:2.0
PRODID:-//Tam Thi Pham - ECPv6.15.20//NONSGML v1.0//EN
CALSCALE:GREGORIAN
METHOD:PUBLISH
X-ORIGINAL-URL:https://tamthipham.com
X-WR-CALDESC:Events for Tam Thi Pham
REFRESH-INTERVAL;VALUE=DURATION:PT1H
X-Robots-Tag:noindex
X-PUBLISHED-TTL:PT1H
BEGIN:VTIMEZONE
TZID:UTC
BEGIN:STANDARD
TZOFFSETFROM:+0000
TZOFFSETTO:+0000
TZNAME:UTC
DTSTART:20180101T000000
END:STANDARD
END:VTIMEZONE
BEGIN:VEVENT
DTSTART;TZID=UTC:20200117T180000
DTEND;TZID=UTC:20200117T180000
DTSTAMP:20260422T171908
CREATED:20191125T142549Z
LAST-MODIFIED:20191125T142722Z
UID:747-1579284000-1579284000@tamthipham.com
SUMMARY:Tag der Innovativen Hochschule
DESCRIPTION:Venue: Forum Hochschule für Musik und Theater \nwill update soon
URL:https://tamthipham.com/event/tag-der-innovativen-hochschule
LOCATION:Hochschule für Musik und Theater Hamburg\, Harvestehuder Weg 12\, Hamburg\, 20148\, Germany
END:VEVENT
BEGIN:VEVENT
DTSTART;TZID=UTC:20191214T200000
DTEND;TZID=UTC:20191214T213000
DTSTAMP:20260422T171908
CREATED:20191125T143048Z
LAST-MODIFIED:20191125T143238Z
UID:750-1576353600-1576359000@tamthipham.com
SUMMARY:Resonanz: Performance mit Tanz- und Musikimprovisation
DESCRIPTION:Venue: Triade\, Bernstorffstr. 117\, Hamburg \n-die Poesie des Augenblicks in der mehrdimensionalen Begegnung zwischen Tanz und Musik- \nIn dieser Performance treffen sich Tanz- und Musikimprovisation und kreieren einen gemeinsamen Raum für Solo\, Duo\, Trio\, Quartett\, Stille und Sound\, Ruhe und Bewegung\, Berührung und berührt werden….\nKann Tanz zu Musik werden und Musik zu Tanz? \nTanz: Jozefina Frljić & Natascha Golubtsova\nMusik: Tam Pham (Elektro\, Đàn Bầu) & Goran Lazarevic (Akkordeon)\nKünstlerische Leitung: Sigrid Bohlens \n 
URL:https://tamthipham.com/event/resonanz-performance-mit-tanz-und-musikimprovisation
LOCATION:Triade\, Bernstorffstr. 117\, Hamburg\, Germany
END:VEVENT
BEGIN:VEVENT
DTSTART;TZID=UTC:20191208T190000
DTEND;TZID=UTC:20191208T210000
DTSTAMP:20260422T171908
CREATED:20191125T141709Z
LAST-MODIFIED:20191125T141811Z
UID:743-1575831600-1575838800@tamthipham.com
SUMMARY:TAOI SPECIAL EDITION TEXT & MUSIK
DESCRIPTION:Nach den großartigen Konzertabenden in 2017\, 2018 und im Juni 2019 freuen wir uns\, mit TAOI 2019 / II am 08. Dezember 2019 die letzte diesjährige Folge unserer Reihe THE ART OF IMPROVISATION präsentieren zu können. \nWir bleiben dabei dem eingeschlagenen Weg treu und inszenieren spannende interdisziplinäre Begegnungen mit und zwischen einigen der international bedeutendsten Musiker/-innen des zeitgenössischen Jazz\, der Improvised Music und der europäischen Neuen Musik. Dabei geht es uns stets darum\, neue Wege der Zusammenarbeit und des Austauschs zwischen den Genres und Traditionslinien zu beschreiten\, die sowohl den musikalischen Diskurs als auch die soziale und politische Dimension der künstlerischen Improvisation befördern. Durch die Auswahl der Protagonisten wird es weiterhin auch immer ein Dialog der Generationen sein.  \nDieses mal erwartet uns unter dem Motto TEXT & MUSIK ein ganz besonderer Abend\, der sich dem spannungsreichen Verhältnis von Sprache und Musik widmet. Uns interessieren hier besonders die Übergangsterritorien und Zwischenräume dieser beiden Welten – metaphorisch gesprochen so etwas wie der Klang der Worte\, die Diskursivität des Klangs oder die Gedanken der Musik. Wir haben für diesen Abend ganz besondere Gäste gewinnen können\, die mit ihren jeweiligen Arbeiten sehr unterschiedliche\, spannende und neue Perspektiven auf unser Thema eröffnen. Die folgenden Zeilen können nur ein kurzer Überblick sein – ausführlichere Informationen zu den Programmteilen und die Biografien der beteiligten Künstlerinnen und Künstler finden sich weiter unten.
URL:https://tamthipham.com/event/taoi-special-edition-text-musik
LOCATION:resonanzraum\, Feldstraße 66\,\, 20359 Hamburg\, Germany
END:VEVENT
BEGIN:VEVENT
DTSTART;TZID=UTC:20191204T180000
DTEND;TZID=UTC:20191204T193000
DTSTAMP:20260422T171908
CREATED:20191125T141354Z
LAST-MODIFIED:20191125T141354Z
UID:740-1575482400-1575487800@tamthipham.com
SUMMARY:Hanoi city blues
DESCRIPTION:Performance Đàn Bầu\, electronics\, Haikus on December \nVenue: Univ. of Bonn\, main building\, lecture hall 2 \nThe pieces are personal as well as at the pulse of time. Haikus written in English delve into the astonishingly sensual sounds of Đàn bầu\, the Vietnamese monochord zither\, combined with electronics – and vice versa.\nWith her sensitivity for vibratos\, non-Western scales and explorative improvisations\, Tam Thi Pham embarks on a journey of musical maneuvers and interactions\, as if in a question-and-answer game with images put in words by Phuong Le Trong. The performance distinctively leads to reflections on current issues and experiences in Vietnam and other environments. \nTam Thi Pham\, based in Hamburg\, is a composer and improvisation artist hailing from Vietnam. Expressions in which composition and performance are two indivisible parts testify to her flair for creative experimenting\, especially with Vietnamese music. Phuong Le Trong is a sociologist with a focus on Southeast Asia as well as an author. His essays and poems are records from the perspective of a flâneur. \n 
URL:https://tamthipham.com/event/hanoi-city-blues
END:VEVENT
BEGIN:VEVENT
DTSTART;TZID=UTC:20191018T200000
DTEND;TZID=UTC:20191018T220000
DTSTAMP:20260422T171908
CREATED:20191017T120419Z
LAST-MODIFIED:20191017T120540Z
UID:654-1571428800-1571436000@tamthipham.com
SUMMARY:SPIIC to Silkroad FEST - Improvisation meets composition
DESCRIPTION:Das Studio für polystilistische Improvisation und interdisziplinären Crossover – SPIIC ist ein neues mehrjähriges Projekt der Innovativen Hochschule / Stage_2.0 an der HfMT in Hamburg. 2018 unter der Leitung von Vlatko Kučan begründet\, erforscht SPIIC die vielfältigen Möglichkeiten der künstlerischen Improvisation in Theorie und Praxis. Dabei spielt das SPIIC Ensemble eine zentrale Rolle: es besteht aus Musiker/-innen unterschiedlicher Fachbereiche die aus Argentinien\, Estland\, Frankreich\, Italien\, Polen\, Serbien\, Schweden\, Spanien\, Vietnam und Deutschland stammen und im SPIIC Ensemble ein interdisziplinäres\, interkulturelles\, ästhetisches und soziales ‘Experimentierlabor’ bilden.\nAn diesem Abend wird das zehnköpfige SPIIC Ensemble in wechselnden Besetzungen und gemeinsam mit international renommierten Gästen wie dem mikrotonalen Saxophonisten Philipp Gerschlauer\, der Percussionistin Lin Chen und dem Posaunisten Heinz-Erich Gödecke eine Expedition in die ‚Zwischenräume‘ von Improvisation und Komposition und durch die virtuellen ‚Transitzonen‘ von tradierten Genres und ästhetischen Konzeptionen unternehmen.
URL:https://tamthipham.com/event/spiic-to-silkroad-fest-improvisation-meets-composition
LOCATION:resonanzraum\, Feldstraße 66\,\, 20359 Hamburg\, Germany
ATTACH;FMTTYPE=image/jpeg:https://tamthipham.com/wp-content/uploads/2019/10/71247045_1254838988045045_6160626322591711232_n.jpg
END:VEVENT
BEGIN:VEVENT
DTSTART;TZID=UTC:20190831T190000
DTEND;TZID=UTC:20190831T190000
DTSTAMP:20260422T171908
CREATED:20190822T103544Z
LAST-MODIFIED:20190822T103544Z
UID:620-1567278000-1567278000@tamthipham.com
SUMMARY:The Sounds & Sensors Project
DESCRIPTION:This event will update soon!
URL:https://tamthipham.com/event/the-sounds-sensors-project
END:VEVENT
BEGIN:VEVENT
DTSTART;TZID=UTC:20190824T210000
DTEND;TZID=UTC:20190824T221500
DTSTAMP:20260422T171908
CREATED:20190805T215522Z
LAST-MODIFIED:20190822T102010Z
UID:100-1566680400-1566684900@tamthipham.com
SUMMARY:SPIIC Ensemble
DESCRIPTION:Rauminstallationen mit Musik\, Licht und performativem Tanz im Park der City Nord Hamburg – \nim Rahmen von licht_kunst 2019/ 60 Jahre City Nord\n \nAngeregt durch das Landschaftsbild „Hollywell’s Park“ (1748/50) des englischen Malers Thomas Gainsborough\, das mit seinen plastisch erhabenen\, den Himmel spiegelnden Seen und der Lichtdramaturgie zugleich Reflektion über Naturphänomene und surreale Überhöhung ist\, werden im Park der City Nord elf Rauminstallationen [Getting Lost\, fluxx\, Discharging Cloud\, deep blue\, Gravi_Tube\, Locus Amoenus\, 850 Meilen\, Holy Hell\, trashSplash\, the enchanted forest\, Space Attractor] implantiert\, die im inszenierten Spiel von Form\, Bewegung\, Klang und Licht den Versuch einer poetischen Transformation der Grünachse unternehmen – gerade auch vor dem Hintergrund der durchrationalisierten Architektur der anliegenden Bürogebäude. \nInstallationen: Studierende der HCU/HafenCity Universität Hamburg (Studiengänge Architektur\, Bauingenieurwesen\, Stadtplanung und Kultur der Metropolen); Leitung: Prof. Lothar Eckhardt und Tina Bremer\, Tutor: Simon Huntington; mit Unterstützung durch Timo Batschi\nMusik: SPIIC Ensemble (Studio für polystilistische Improvisation und interdisziplinären Crossover) der Hochschule für Musik und Theater Hamburg (HfMT); Leitung: Vlatko Kučan\nTanz: Studierende der Erika Klütz Schule für Theatertanz und Tanzpädagogik; Choreographie: Suse Tietjen \nDauer der Performance: 75 min. Eintritt frei.\nDas Aktionsgelände befindet sich im Park zwischen Überseering und Jahnring. Anfahrt: U-Bahnhof Sengelmannstrasse\nAusstellung der Objekte bis 31.8.2019
URL:https://tamthipham.com/event/spiic-ensemble-3
LOCATION:Park City Nord\, City-Nord-Park\, Hamburg\, Germany
END:VEVENT
BEGIN:VEVENT
DTSTART;TZID=UTC:20190823T170000
DTEND;TZID=UTC:20190823T203000
DTSTAMP:20260422T171908
CREATED:20190805T215318Z
LAST-MODIFIED:20190822T103130Z
UID:97-1566579600-1566592200@tamthipham.com
SUMMARY:SPIIC Ensemble
DESCRIPTION:Location A: GEDOK Kunstforum Koppel 66\, 20099 Hamburg  \n\nKonzert Session mit Teilnehmern des Big Urban Walks von Martin Kohler 17:30 bis ca. 18:00 Uhr \n\nNeben den Teilnehmern des Big Urban Walks von Martin Kohler kommen noch geladene und spontane Gäste dazu\, die danach gemeinsam mit rüber zu den Deichtorhallen ziehen.  \n  Gemeinsamer Wechsel zu Fuß zu:  \nLocation B: Deichtorhallen Deichtorstraße 1\, 20095 Hamburg   \n\n Konzert Session: „Einzugsparade“ auf dem Vorplatz der Deichtorhallen ab ca. 18:45 Uhr bis 19.00 Uhr \n Konzert Session auf der „Bühne“ vor der LED Wand im Zusammenspiel mit Impressionen von Magistralen Walks und Gespräch zwischen Martin Kohler und Rudolf Klöckner (19:00 bis max 19:45 Uhr )\n\nWechselspiel aus Konzert des SPIIC Ensembles und einem Interview zum Magistralen Walk mit: Rudolf Klöckner und Martin Kohler.
URL:https://tamthipham.com/event/spiic-ensemble-2
LOCATION:GEDOK Kunstforum\, Koppel 66\, 20099 Hamburg\, Germany
END:VEVENT
BEGIN:VEVENT
DTSTART;TZID=UTC:20190820T000000
DTEND;TZID=UTC:20190820T140000
DTSTAMP:20260422T171908
CREATED:20190805T214447Z
LAST-MODIFIED:20190805T214447Z
UID:94-1566259200-1566309600@tamthipham.com
SUMMARY:SPIIC Ensemble
DESCRIPTION:
URL:https://tamthipham.com/event/spiic-ensemble
LOCATION:the old harbor of Hamburg Harburg\, Hamburg\, Germany
END:VEVENT
END:VCALENDAR